BEGIN:VCALENDAR
PRODID:-//dvv-bw.de//dvv.Portalplattform//DE
VERSION:2.0
METHOD:PUBLISH
BEGIN:VEVENT
DTSTART:20260904T220000Z
DTEND:20260905T220000Z
DTSTAMP:20260425T165351Z
RRULE;FREQ=DAILY;UNTIL=20260906T215959Z
UID:48124302-25726761-1788559200000
SUMMARY:Buchmachermarkt
LOCATION:Hospitalhof
DESCRIPTION:Rathaussaal und Hospitalhof, zusammen mit der Druckwerkstatt Mosbach e.V.
Sa. 05.09. 10 - 17 Uhr
So. 06.09. 11 - 17 Uhr
CLASS:PUBLIC
X-ALT-DESC;FMTTYPE=text/html:Rathaussaal und Hospitalhof, zusammen mit der Druckwerkstatt Mosbach e.V.<br>Sa. 05.09. 10 - 17 Uhr<br>So. 06.09. 11 - 17 Uhr
END:VEVENT
END:VCALENDAR
