BEGIN:VCALENDAR
PRODID:-//dvv-bw.de//dvv.Portalplattform//DE
VERSION:2.0
METHOD:PUBLISH
BEGIN:VEVENT
DTSTART:20260911T180000Z
DTEND:20260911T200000Z
DTSTAMP:20260423T170621Z
UID:15663667-15663568-1789077600000
SUMMARY:Musical & More Rick&Westermann
LOCATION:Kultur- und Begegnungszentrum fideljo, Neckarburkener Str. 18, 74821 Mosbach
DESCRIPTION:Musical & More Rick&Westermann
CLASS:PUBLIC
X-ALT-DESC;FMTTYPE=text/html:Musical & More Rick&Westermann
END:VEVENT
END:VCALENDAR
