BEGIN:VCALENDAR
PRODID:-//dvv-bw.de//dvv.Portalplattform//DE
VERSION:2.0
METHOD:PUBLISH
BEGIN:VEVENT
DTSTART:20260509T123000Z
DTEND:20260509T143000Z
DTSTAMP:20260420T063136Z
UID:55289758-55289656-1778277600000
SUMMARY:Altstadtführung
LOCATION:Innenstadt/Fußgängerzone
DESCRIPTION:Von Mai – Oktober startet Mittwoch um 14:30 Uhr und Samstag um 11:00 Uhr unsere 2-stündige Altstadtführung vor der Tourist Information.
CLASS:PUBLIC
X-ALT-DESC;FMTTYPE=text/html:Von Mai &ndash; Oktober startet Mittwoch um 14:30 Uhr und Samstag um 11:00 Uhr unsere 2-stündige Altstadtführung vor der Tourist Information.
END:VEVENT
END:VCALENDAR
