BEGIN:VCALENDAR
PRODID:-//dvv-bw.de//dvv.Portalplattform//DE
VERSION:2.0
METHOD:PUBLISH
BEGIN:VEVENT
DTSTART:20261106T230000Z
DTEND:20261107T230000Z
DTSTAMP:20260425T142903Z
RRULE;FREQ=DAILY;UNTIL=20261108T225959Z
UID:25726862-25726762-1794006000000
SUMMARY:Mittelalter- und Kunsthandwerkermarkt
LOCATION:Marktplatz
DESCRIPTION:Sa., 07.11. 11 - 20 Uhr
So., 08.11. 11 - 17 Uhr
CLASS:PUBLIC
X-ALT-DESC;FMTTYPE=text/html:Sa., 07.11. 11 - 20 Uhr<br>So., 08.11. 11 - 17 Uhr
END:VEVENT
END:VCALENDAR
